BEGIN:VCALENDAR
VERSION:2.0
PRODID:-//www.bottmingen.ch//NONSGML kigkonsult.se iCalcreator 2.22//
CALSCALE:GREGORIAN
METHOD:PUBLISH
X-WR-TIMEZONE:Europe/Berlin
BEGIN:VEVENT
UID:20260420T094204CEST-6270c3t4r6@www.bottmingen.ch
DTSTAMP:20260420T074204Z
DESCRIPTION:Klicken Sie auf den folgenden Link\, um weitere Informationen z
 ur Veranstaltung zu erhalten:\nhttp://www.bottmingen.ch/de/veranstaltungen
 /detail/detail.php?i=12963
DTSTART:20260815T210000
DTEND:20260815T230000
LOCATION:Gartenbad beim Schloss Bottmingen
SUMMARY:Nachtschwimmen mit DJ Putney
END:VEVENT
END:VCALENDAR
