BEGIN:VCALENDAR
VERSION:2.0
PRODID:-//www.bottmingen.ch//NONSGML kigkonsult.se iCalcreator 2.22//
CALSCALE:GREGORIAN
METHOD:PUBLISH
X-WR-TIMEZONE:Europe/Berlin
BEGIN:VEVENT
UID:20260420T094227CEST-6849twKRVj@www.bottmingen.ch
DTSTAMP:20260420T074227Z
DESCRIPTION:Klicken Sie auf den folgenden Link\, um weitere Informationen z
 ur Veranstaltung zu erhalten:\nhttp://www.bottmingen.ch/de/veranstaltungen
 /detail/detail.php?i=12961
DTSTART:20260821T180000
DTEND:20260821T190000
LOCATION:Gartenbad beim Schloss Bottmingen 
SUMMARY:Blechbläserkonzert in der Badi – Ein erfrischendes Open-Air-Erlebni
 s der Musikschule Binningen-Bottmingen
END:VEVENT
END:VCALENDAR
