BEGIN:VCALENDAR
VERSION:2.0
PRODID:-//www.bottmingen.ch//NONSGML kigkonsult.se iCalcreator 2.22//
CALSCALE:GREGORIAN
METHOD:PUBLISH
X-WR-TIMEZONE:Europe/Berlin
BEGIN:VEVENT
UID:20260420T094413CEST-27691mU0Lc@www.bottmingen.ch
DTSTAMP:20260420T074413Z
DESCRIPTION:Klicken Sie auf den folgenden Link\, um weitere Informationen z
 ur Veranstaltung zu erhalten:\nhttp://www.bottmingen.ch/de/veranstaltungen
 /detail/detail.php?i=12776
DTSTART:20260819T143000
DTEND:20260819T163000
LOCATION:Weiherschloss
SUMMARY:80-Jährigen-Feier
END:VEVENT
END:VCALENDAR
