BEGIN:VCALENDAR
VERSION:2.0
PRODID:-//www.bottmingen.ch//NONSGML kigkonsult.se iCalcreator 2.22//
CALSCALE:GREGORIAN
METHOD:PUBLISH
X-WR-TIMEZONE:Europe/Berlin
BEGIN:VEVENT
UID:20260420T094521CEST-47205v3KaR@www.bottmingen.ch
DTSTAMP:20260420T074521Z
DESCRIPTION:Klicken Sie auf den folgenden Link\, um weitere Informationen z
 ur Veranstaltung zu erhalten:\nhttp://www.bottmingen.ch/de/veranstaltungen
 /detail/detail.php?i=12775
DTSTART:20260801T103000
DTEND:20260801T140000
LOCATION:Pausenplatz beim Schulhaus Talholz
SUMMARY:1. August-Feier
END:VEVENT
END:VCALENDAR
