BEGIN:VCALENDAR
VERSION:2.0
PRODID:-//www.bottmingen.ch//NONSGML kigkonsult.se iCalcreator 2.22//
CALSCALE:GREGORIAN
METHOD:PUBLISH
X-WR-TIMEZONE:Europe/Berlin
BEGIN:VEVENT
UID:20260420T045911CEST-8109IfuZfs@www.bottmingen.ch
DTSTAMP:20260420T025911Z
DESCRIPTION:Klicken Sie auf den folgenden Link\, um weitere Informationen z
 ur Veranstaltung zu erhalten:\nhttp://www.bottmingen.ch/de/veranstaltungen
 /detail/detail.php?i=12774
DTSTART:20260514T140000
DTEND:20260514T190000
LOCATION:Banntagplatz (Treffpunkt Pausenplatz Hämisgartenschulhaus)
SUMMARY:Bannumgang
END:VEVENT
END:VCALENDAR
