BEGIN:VCALENDAR
VERSION:2.0
PRODID:-//www.bottmingen.ch//NONSGML kigkonsult.se iCalcreator 2.22//
CALSCALE:GREGORIAN
METHOD:PUBLISH
X-WR-TIMEZONE:Europe/Berlin
BEGIN:VEVENT
UID:20260420T005545CEST-4470dRluWe@www.bottmingen.ch
DTSTAMP:20260419T225545Z
DESCRIPTION:Klicken Sie auf den folgenden Link\, um weitere Informationen z
 ur Veranstaltung zu erhalten:\nhttp://www.bottmingen.ch/de/veranstaltungen
 /detail/detail.php?i=12738
DTSTART:20260423T173000
DTEND:20260423T210000
LOCATION:Burggartenkeller
SUMMARY:AfterWork Frühlings-Flohmarkt
END:VEVENT
END:VCALENDAR
