BEGIN:VCALENDAR
VERSION:2.0
PRODID:-//www.bottmingen.ch//NONSGML kigkonsult.se iCalcreator 2.22//
CALSCALE:GREGORIAN
METHOD:PUBLISH
X-WR-TIMEZONE:Europe/Berlin
BEGIN:VEVENT
UID:20260421T102743CEST-7362cNjaUh@www.bottmingen.ch
DTSTAMP:20260421T082743Z
DESCRIPTION:Klicken Sie auf den folgenden Link\, um weitere Informationen z
 ur Veranstaltung zu erhalten:\nhttp://www.bottmingen.ch/de/veranstaltungen
 /detail/detail.php?i=12737
DTSTART:20260321T200000
DTEND:20260321T234500
LOCATION:Burggartenkeller
SUMMARY:Disco-Clubbing mit DJ RuDy
END:VEVENT
END:VCALENDAR
