BEGIN:VCALENDAR
VERSION:2.0
PRODID:-//www.bottmingen.ch//NONSGML kigkonsult.se iCalcreator 2.22//
CALSCALE:GREGORIAN
METHOD:PUBLISH
X-WR-TIMEZONE:Europe/Berlin
BEGIN:VEVENT
UID:20260419T230854CEST-4194fuhtpV@www.bottmingen.ch
DTSTAMP:20260419T210854Z
DESCRIPTION:Klicken Sie auf den folgenden Link\, um weitere Informationen z
 ur Veranstaltung zu erhalten:\nhttp://www.bottmingen.ch/de/veranstaltungen
 /detail/detail.php?i=12043
DTSTART:20240117T163000
DTEND:20240117T183000
LOCATION:Untere Turnhalle Hämisgarten
SUMMARY:Aikido Schnupperkurs für Kinder in Bottmingen
END:VEVENT
END:VCALENDAR
