BEGIN:VCALENDAR
VERSION:2.0
PRODID:-//www.bottmingen.ch//NONSGML kigkonsult.se iCalcreator 2.22//
CALSCALE:GREGORIAN
METHOD:PUBLISH
X-WR-TIMEZONE:Europe/Berlin
BEGIN:VEVENT
UID:20260419T230845CEST-3444MvUaOs@www.bottmingen.ch
DTSTAMP:20260419T210845Z
DESCRIPTION:Klicken Sie auf den folgenden Link\, um weitere Informationen z
 ur Veranstaltung zu erhalten:\nhttp://www.bottmingen.ch/de/veranstaltungen
 /detail/detail.php?i=11896
DTSTART:20240626T190000
DTEND:20240626T193000
LOCATION:Aula Schulhaus Burggarten\, Bottmingen
SUMMARY:Bürgergemeindeversammlung
END:VEVENT
END:VCALENDAR
