BEGIN:VCALENDAR
VERSION:2.0
PRODID:-//www.bottmingen.ch//NONSGML kigkonsult.se iCalcreator 2.22//
CALSCALE:GREGORIAN
METHOD:PUBLISH
X-WR-TIMEZONE:Europe/Berlin
BEGIN:VEVENT
UID:20260419T231027CEST-5415eup2vW@www.bottmingen.ch
DTSTAMP:20260419T211027Z
DESCRIPTION:Klicken Sie auf den folgenden Link\, um weitere Informationen z
 ur Veranstaltung zu erhalten:\nhttp://www.bottmingen.ch/de/veranstaltungen
 /detail/detail.php?i=11999
DTSTART:20240113T000000
LOCATION:Turnhalle Spiegelfeld Nord/Süd - Sek Binningen
SUMMARY:Midnight Sports Spiegelfeld - Offene Turnhallen am Samstagabend
END:VEVENT
END:VCALENDAR
